BEGIN:VCALENDAR
VERSION:2.0
PRODID:-//Douglas County Republican Women - ECPv6.15.17//NONSGML v1.0//EN
CALSCALE:GREGORIAN
METHOD:PUBLISH
X-ORIGINAL-URL:https://www.dcrw.org
X-WR-CALDESC:Events for Douglas County Republican Women
REFRESH-INTERVAL;VALUE=DURATION:PT1H
X-Robots-Tag:noindex
X-PUBLISHED-TTL:PT1H
BEGIN:VTIMEZONE
TZID:America/Denver
BEGIN:DAYLIGHT
TZOFFSETFROM:-0700
TZOFFSETTO:-0600
TZNAME:MDT
DTSTART:20160313T090000
END:DAYLIGHT
BEGIN:STANDARD
TZOFFSETFROM:-0600
TZOFFSETTO:-0700
TZNAME:MST
DTSTART:20161106T080000
END:STANDARD
BEGIN:DAYLIGHT
TZOFFSETFROM:-0700
TZOFFSETTO:-0600
TZNAME:MDT
DTSTART:20170312T090000
END:DAYLIGHT
BEGIN:STANDARD
TZOFFSETFROM:-0600
TZOFFSETTO:-0700
TZNAME:MST
DTSTART:20171105T080000
END:STANDARD
BEGIN:DAYLIGHT
TZOFFSETFROM:-0700
TZOFFSETTO:-0600
TZNAME:MDT
DTSTART:20180311T090000
END:DAYLIGHT
BEGIN:STANDARD
TZOFFSETFROM:-0600
TZOFFSETTO:-0700
TZNAME:MST
DTSTART:20181104T080000
END:STANDARD
BEGIN:DAYLIGHT
TZOFFSETFROM:-0700
TZOFFSETTO:-0600
TZNAME:MDT
DTSTART:20190310T090000
END:DAYLIGHT
BEGIN:STANDARD
TZOFFSETFROM:-0600
TZOFFSETTO:-0700
TZNAME:MST
DTSTART:20191103T080000
END:STANDARD
BEGIN:DAYLIGHT
TZOFFSETFROM:-0700
TZOFFSETTO:-0600
TZNAME:MDT
DTSTART:20200308T090000
END:DAYLIGHT
BEGIN:STANDARD
TZOFFSETFROM:-0600
TZOFFSETTO:-0700
TZNAME:MST
DTSTART:20201101T080000
END:STANDARD
BEGIN:DAYLIGHT
TZOFFSETFROM:-0700
TZOFFSETTO:-0600
TZNAME:MDT
DTSTART:20210314T090000
END:DAYLIGHT
BEGIN:STANDARD
TZOFFSETFROM:-0600
TZOFFSETTO:-0700
TZNAME:MST
DTSTART:20211107T080000
END:STANDARD
BEGIN:DAYLIGHT
TZOFFSETFROM:-0700
TZOFFSETTO:-0600
TZNAME:MDT
DTSTART:20220313T090000
END:DAYLIGHT
BEGIN:STANDARD
TZOFFSETFROM:-0600
TZOFFSETTO:-0700
TZNAME:MST
DTSTART:20221106T080000
END:STANDARD
BEGIN:DAYLIGHT
TZOFFSETFROM:-0700
TZOFFSETTO:-0600
TZNAME:MDT
DTSTART:20230312T090000
END:DAYLIGHT
BEGIN:STANDARD
TZOFFSETFROM:-0600
TZOFFSETTO:-0700
TZNAME:MST
DTSTART:20231105T080000
END:STANDARD
BEGIN:DAYLIGHT
TZOFFSETFROM:-0700
TZOFFSETTO:-0600
TZNAME:MDT
DTSTART:20240310T090000
END:DAYLIGHT
BEGIN:STANDARD
TZOFFSETFROM:-0600
TZOFFSETTO:-0700
TZNAME:MST
DTSTART:20241103T080000
END:STANDARD
BEGIN:DAYLIGHT
TZOFFSETFROM:-0700
TZOFFSETTO:-0600
TZNAME:MDT
DTSTART:20250309T090000
END:DAYLIGHT
BEGIN:STANDARD
TZOFFSETFROM:-0600
TZOFFSETTO:-0700
TZNAME:MST
DTSTART:20251102T080000
END:STANDARD
END:VTIMEZONE
BEGIN:VEVENT
DTSTART;TZID=America/Denver:20240817T110000
DTEND;TZID=America/Denver:20240817T150000
DTSTAMP:20260423T162242
CREATED:20240605T191138Z
LAST-MODIFIED:20240605T191138Z
UID:2264-1723892400-1723906800@www.dcrw.org
SUMMARY:Annual Lincoln Day Picnic hosted by DCRW
DESCRIPTION:ANNUAL LINCOLN DAY PICNIC hosted by DCRW\nPre-pay and reserve below by August 10th.  Admittance by prepaid reservation only — No Checks\, No Walk-Ins! \nDate: Saturday\, August 17\, 2024\nTime: 11:00am to 3:00pm (food served noon to 2pm)\nWhy: Family\, Food\, Auction and time with some celebrity guests\nDate: Saturday\, August 17\, 2024\nTime: 11:00am to 3:00pm (food served noon to 2pm)\nCost: $35 for singles\, $65 for couples\, $75 for families (up to 2 people aged 16 and over and kids up to 16)\nPlace: Wiens Ranch\, Sedalia\, CO
URL:https://www.dcrw.org/event/annual-lincoln-day-picnic-hosted-by-dcrw/
LOCATION:Wiens Ranch\, 5567 S Perry Park Rd\, Sedalia\, CO\, 80135\, United States
CATEGORIES:Fundraisers,Support DCRW!
END:VEVENT
BEGIN:VEVENT
DTSTART;TZID=America/Denver:20240810T170000
DTEND;TZID=America/Denver:20240810T170000
DTSTAMP:20260423T162242
CREATED:20240605T191443Z
LAST-MODIFIED:20240605T191540Z
UID:2266-1723309200-1723309200@www.dcrw.org
SUMMARY:Last Day to Pre-Pay and Reserve for Lincoln Day Picnic
DESCRIPTION:ANNUAL LINCOLN DAY PICNIC hosted by DCRW\nPre-pay and reserve below by August 10th.  Admittance by prepaid reservation only — No Checks\, No Walk-Ins! \nDate: Saturday\, August 17\, 2024\nTime: 11:00am to 3:00pm (food served noon to 2pm)\nWhy: Family\, Food\, Auction and time with some celebrity guests\nDate: Saturday\, August 17\, 2024\nTime: 11:00am to 3:00pm (food served noon to 2pm)\nCost: $35 for singles\, $65 for couples\, $75 for families (up to 2 people aged 16 and over and kids up to 16)\nPlace: Wiens Ranch\, Sedalia\, CO
URL:https://www.dcrw.org/event/last-day-to-pre-pay-and-reserve-for-lincoln-day-picnic/
LOCATION:Wiens Ranch\, 5567 S Perry Park Rd\, Sedalia\, CO\, 80135\, United States
CATEGORIES:Fundraisers,Support DCRW!
ATTACH;FMTTYPE=image/png:https://www.dcrw.org/wp-content/uploads/2018/10/Dont-Be-Late.png
END:VEVENT
BEGIN:VEVENT
DTSTART;TZID=America/Denver:20230419T113000
DTEND;TZID=America/Denver:20230419T130000
DTSTAMP:20260423T162242
CREATED:20230110T040317Z
LAST-MODIFIED:20230505T185612Z
UID:2000-1681903800-1681909200@www.dcrw.org
SUMMARY:DCRW April Luncheon and Auction -- Laura Carno and John Castillo
DESCRIPTION:Wednesday\, April 19\, 2023\nSocial Time 11:00 – 11:30 am\nGavel Drops at 11:30 am\nCost:\nMembers: $35 any payment method\, reserve before 5pm April 12th\, $40 after April 12th\nNon-Members: $40 \nhttps://www.dcrw.org/monthly-luncheon-rsvp-and-pay-with-paypal \nLocation:\nLone Tree Golf Club and Hotel\n9808 Sunningdale Blvd\, Lone Tree\, CO  80124\nReservations due by 5pm Wednesday\, April 12\, 2023 – late reservations add $5\nRSVP by email: douglascountyrepublicanwomen@hotmail.com\nIF YOU DO NOT RECEIVE AN EMAIL CONFIRMATION OF YOUR RESERVATION IN 2 DAYS\, PLEASE CALL US TO RESERVE A SPACE\nNo-show reservations will be charged
URL:https://www.dcrw.org/event/dcrw-april-luncheon-and-auction/
LOCATION:Lone Tree Golf Club and Hotel\, 9808 Sunningdale Blvd.\, Lone Tree\, CO\, 80124
CATEGORIES:Monthly Luncheon Meeting,Support DCRW!
ATTACH;FMTTYPE=image/jpeg:https://www.dcrw.org/wp-content/uploads/2019/12/20200615_112231_HDR-crop3.jpg
END:VEVENT
BEGIN:VEVENT
DTSTART;TZID=America/Denver:20230412T050000
DTEND;TZID=America/Denver:20230412T170000
DTSTAMP:20260423T162242
CREATED:20230110T034445Z
LAST-MODIFIED:20230110T034445Z
UID:1984-1681275600-1681318800@www.dcrw.org
SUMMARY:Last Day for On-Time Reservation to April Luncheon
DESCRIPTION:Make your on-time reservation to April’s luncheon by submitting before 5pm Wednesday\, April 12th. RSVP by email to douglascountyrepublicanwomen@hotmail.com.
URL:https://www.dcrw.org/event/last-day-for-on-time-reservation-to-april-luncheon-4/
LOCATION:Lone Tree Golf Club and Hotel\, 9808 Sunningdale Blvd.\, Lone Tree\, CO\, 80124
CATEGORIES:Monthly Luncheon Meeting,Support DCRW!
ATTACH;FMTTYPE=image/png:https://www.dcrw.org/wp-content/uploads/2018/10/Dont-Be-Late.png
END:VEVENT
BEGIN:VEVENT
DTSTART;TZID=America/Denver:20181017T104500
DTEND;TZID=America/Denver:20181017T130000
DTSTAMP:20260423T162242
CREATED:20180303T001852Z
LAST-MODIFIED:20181004T175322Z
UID:727-1539773100-1539781200@www.dcrw.org
SUMMARY:DCRW October Luncheon - Lang Sias - Silent and Live Auction!
DESCRIPTION:Wednesday\, October 17\, 2018\nSHOP THE AUCTION 10:45am – 11:30 am\nGavel Drops at 11:30 am\nCost:\n$25 cash or check for members\, $30 for non-members at the door with reservation\n$26 members\, $31 non-members by credit card at the door or prepaid online with timely reservation\nhttps://www.dcrw.org/monthly-luncheon-rsvp-and-pay-with-paypal\n$30 at the door with no reservation if meals are available\nLocation:\nLone Tree Golf Club and Hotel\n9808 Sunningdale Blvd\, Lone Tree\, CO  80124\nReservations due by Noon Friday\, October 12\, 2018 – late reservations add $5 upcharge\nRSVP by email: douglascountyrepublicanwomen@Hotmail.com OR\nRSVP by phone: Sue Kenfield at 303-791-2807\nIF YOU DO NOT RECEIVE AN EMAIL CONFIRMATION OF YOUR RESERVATION IN 2 DAYS\, PLEASE CALL US AT 303-791-2807 TO RESERVE A SPACE\nNo-show reservations will be charged
URL:https://www.dcrw.org/event/dcrw-october-luncheon-auction/
LOCATION:Lone Tree Golf Club and Hotel\, 9808 Sunningdale Blvd.\, Lone Tree\, CO\, 80124
CATEGORIES:Monthly Luncheon Meeting,Support DCRW!
ATTACH;FMTTYPE=image/jpeg:https://www.dcrw.org/wp-content/uploads/2018/03/auction.jpg
END:VEVENT
BEGIN:VEVENT
DTSTART;TZID=America/Denver:20180227T183000
DTEND;TZID=America/Denver:20180227T203000
DTSTAMP:20260423T162242
CREATED:20180202T155654Z
LAST-MODIFIED:20180303T213232Z
UID:691-1519756200-1519763400@www.dcrw.org
SUMMARY:DCRW Gubernatorial Candidate Forum
DESCRIPTION:You are cordially invited to join DCRW for an evening featuring Republican candidates for Governor.  \nMeet the candidates\, and listen to their points of view.  We want your questions and will provide index cards before and during the forum so you may submit those questions in writing.  No questions will be taken from the floor. \nDATE: February 27\, 2018 \nTIME: 6:30 p.m. \nPLACE: The Highlands Ranch Recreational Center at Eastridge\, 9568 S University Blvd\, Highlands Ranch\, CO  80126 \nCOST: Free to DCRW Members and their guests
URL:https://www.dcrw.org/event/dcrw-gubernatorial-candidate-forum/
LOCATION:Highlands Ranch Eastridge Rec Center\, 9568 S University Blvd\, Highlands Ranch\, CO\, 80126\, United States
CATEGORIES:Candidate Forums,GOP Events,Support DCRW!
END:VEVENT
BEGIN:VEVENT
DTSTART;VALUE=DATE:20170908
DTEND;VALUE=DATE:20171019
DTSTAMP:20260423T162242
CREATED:20170908T224513Z
LAST-MODIFIED:20170918T224518Z
UID:416-1504828800-1508371199@www.dcrw.org
SUMMARY:DCRW's Annual Non-Auction Auction
DESCRIPTION:You Are Cordially Invited To Join The DCRW In Their 2017 Non-Auction Auction!\nAs in previous years\, DCRW would like to continue in our quest to support the CO Senate Majority Fund and the CO House Legislative Fund by collecting funds to help elect Republicans to the CO Legislature in 2018! No need to tell the choir that this election is critical to Colorado in keeping the Republican majority in the Senate and hopefully to take back the House\, too! To that end\, we will again be holding a Non-Auction Auction! Please support us (and your Colorado candidates) by donating a monetary gift in the amount that you would usually use to go out and purchase an auction item(s) for our former Silent/Live Auction and the money you would use for a dinner ticket. This will save you a tremendous amount of time and effort and still enable you to support our candidates! ALL proceeds will be divided equally among the House and Senate Funds. By raising the monies this way\, all of us can still do our part in doing everything we can to help our Republican candidates get elected: attend patriotic rallies and educational events; work on Get-Out-The-Vote efforts; attend Fundraisers; walk those precincts; and register voters\, etc. Remember that . . . .\nUNITED WE STAND . . . DIVIDED WE FALL! \nWe currently have three forms of donation:\n\nContribute Now via PayPal!\n\n\n\nMail your check\, marked for the Non-Auction Auction\, made payable to DCRW along with the completed donation form (Individual_Contribution_Form_2017 ) to: Marsha Haeflein\, 7780 Homestead Road\, Parker\, CO 80138-7916 OR\nBring your cash or check to our September 20th or October 18th luncheon meetings. Make sure you fill out the required donation form (Individual_Contribution_Form_2017) and return that with your donation!\n\nWith your individual permission\, your name will be acknowledged in our November newsletter and on our website. We hope all of you will seriously consider this invitation to help our Republican candidates! Everyone has to do his/her effort to advance our Republican principles and\, if you can support our efforts\, any amount counts\, large or small! Thank you and May God Bless America! For further information\, contact Marsha at 303-841-4318 or mhaeflein@comcast.net www.dcrw.org \nDownload the flyer and give it to your friends.\nNon_Auction_Flyer_2017 \n 
URL:https://www.dcrw.org/event/dcrws-annual-non-auction-auction/
LOCATION:CO
CATEGORIES:Support DCRW!
ATTACH;FMTTYPE=image/jpeg:https://www.dcrw.org/wp-content/uploads/2017/06/DCRW-Logo_Crop-e1504910565801.jpg
END:VEVENT
END:VCALENDAR