BEGIN:VCALENDAR
VERSION:2.0
PRODID:-//Douglas County Republican Women - ECPv6.15.17//NONSGML v1.0//EN
CALSCALE:GREGORIAN
METHOD:PUBLISH
X-WR-CALNAME:Douglas County Republican Women
X-ORIGINAL-URL:https://www.dcrw.org
X-WR-CALDESC:Events for Douglas County Republican Women
REFRESH-INTERVAL;VALUE=DURATION:PT1H
X-Robots-Tag:noindex
X-PUBLISHED-TTL:PT1H
BEGIN:VTIMEZONE
TZID:America/Denver
BEGIN:DAYLIGHT
TZOFFSETFROM:-0700
TZOFFSETTO:-0600
TZNAME:MDT
DTSTART:20170312T090000
END:DAYLIGHT
BEGIN:STANDARD
TZOFFSETFROM:-0600
TZOFFSETTO:-0700
TZNAME:MST
DTSTART:20171105T080000
END:STANDARD
BEGIN:DAYLIGHT
TZOFFSETFROM:-0700
TZOFFSETTO:-0600
TZNAME:MDT
DTSTART:20180311T090000
END:DAYLIGHT
BEGIN:STANDARD
TZOFFSETFROM:-0600
TZOFFSETTO:-0700
TZNAME:MST
DTSTART:20181104T080000
END:STANDARD
BEGIN:DAYLIGHT
TZOFFSETFROM:-0700
TZOFFSETTO:-0600
TZNAME:MDT
DTSTART:20190310T090000
END:DAYLIGHT
BEGIN:STANDARD
TZOFFSETFROM:-0600
TZOFFSETTO:-0700
TZNAME:MST
DTSTART:20191103T080000
END:STANDARD
BEGIN:DAYLIGHT
TZOFFSETFROM:-0700
TZOFFSETTO:-0600
TZNAME:MDT
DTSTART:20200308T090000
END:DAYLIGHT
BEGIN:STANDARD
TZOFFSETFROM:-0600
TZOFFSETTO:-0700
TZNAME:MST
DTSTART:20201101T080000
END:STANDARD
BEGIN:DAYLIGHT
TZOFFSETFROM:-0700
TZOFFSETTO:-0600
TZNAME:MDT
DTSTART:20210314T090000
END:DAYLIGHT
BEGIN:STANDARD
TZOFFSETFROM:-0600
TZOFFSETTO:-0700
TZNAME:MST
DTSTART:20211107T080000
END:STANDARD
BEGIN:DAYLIGHT
TZOFFSETFROM:-0700
TZOFFSETTO:-0600
TZNAME:MDT
DTSTART:20220313T090000
END:DAYLIGHT
BEGIN:STANDARD
TZOFFSETFROM:-0600
TZOFFSETTO:-0700
TZNAME:MST
DTSTART:20221106T080000
END:STANDARD
BEGIN:DAYLIGHT
TZOFFSETFROM:-0700
TZOFFSETTO:-0600
TZNAME:MDT
DTSTART:20230312T090000
END:DAYLIGHT
BEGIN:STANDARD
TZOFFSETFROM:-0600
TZOFFSETTO:-0700
TZNAME:MST
DTSTART:20231105T080000
END:STANDARD
BEGIN:DAYLIGHT
TZOFFSETFROM:-0700
TZOFFSETTO:-0600
TZNAME:MDT
DTSTART:20240310T090000
END:DAYLIGHT
BEGIN:STANDARD
TZOFFSETFROM:-0600
TZOFFSETTO:-0700
TZNAME:MST
DTSTART:20241103T080000
END:STANDARD
BEGIN:DAYLIGHT
TZOFFSETFROM:-0700
TZOFFSETTO:-0600
TZNAME:MDT
DTSTART:20250309T090000
END:DAYLIGHT
BEGIN:STANDARD
TZOFFSETFROM:-0600
TZOFFSETTO:-0700
TZNAME:MST
DTSTART:20251102T080000
END:STANDARD
END:VTIMEZONE
BEGIN:VEVENT
DTSTART;TZID=America/Denver:20240817T110000
DTEND;TZID=America/Denver:20240817T150000
DTSTAMP:20260423T172325
CREATED:20240605T191138Z
LAST-MODIFIED:20240605T191138Z
UID:2264-1723892400-1723906800@www.dcrw.org
SUMMARY:Annual Lincoln Day Picnic hosted by DCRW
DESCRIPTION:ANNUAL LINCOLN DAY PICNIC hosted by DCRW\nPre-pay and reserve below by August 10th.  Admittance by prepaid reservation only — No Checks\, No Walk-Ins! \nDate: Saturday\, August 17\, 2024\nTime: 11:00am to 3:00pm (food served noon to 2pm)\nWhy: Family\, Food\, Auction and time with some celebrity guests\nDate: Saturday\, August 17\, 2024\nTime: 11:00am to 3:00pm (food served noon to 2pm)\nCost: $35 for singles\, $65 for couples\, $75 for families (up to 2 people aged 16 and over and kids up to 16)\nPlace: Wiens Ranch\, Sedalia\, CO
URL:https://www.dcrw.org/event/annual-lincoln-day-picnic-hosted-by-dcrw/
LOCATION:Wiens Ranch\, 5567 S Perry Park Rd\, Sedalia\, CO\, 80135\, United States
CATEGORIES:Fundraisers,Support DCRW!
END:VEVENT
BEGIN:VEVENT
DTSTART;TZID=America/Denver:20240810T170000
DTEND;TZID=America/Denver:20240810T170000
DTSTAMP:20260423T172325
CREATED:20240605T191443Z
LAST-MODIFIED:20240605T191540Z
UID:2266-1723309200-1723309200@www.dcrw.org
SUMMARY:Last Day to Pre-Pay and Reserve for Lincoln Day Picnic
DESCRIPTION:ANNUAL LINCOLN DAY PICNIC hosted by DCRW\nPre-pay and reserve below by August 10th.  Admittance by prepaid reservation only — No Checks\, No Walk-Ins! \nDate: Saturday\, August 17\, 2024\nTime: 11:00am to 3:00pm (food served noon to 2pm)\nWhy: Family\, Food\, Auction and time with some celebrity guests\nDate: Saturday\, August 17\, 2024\nTime: 11:00am to 3:00pm (food served noon to 2pm)\nCost: $35 for singles\, $65 for couples\, $75 for families (up to 2 people aged 16 and over and kids up to 16)\nPlace: Wiens Ranch\, Sedalia\, CO
URL:https://www.dcrw.org/event/last-day-to-pre-pay-and-reserve-for-lincoln-day-picnic/
LOCATION:Wiens Ranch\, 5567 S Perry Park Rd\, Sedalia\, CO\, 80135\, United States
CATEGORIES:Fundraisers,Support DCRW!
ATTACH;FMTTYPE=image/png:https://www.dcrw.org/wp-content/uploads/2018/10/Dont-Be-Late.png
END:VEVENT
BEGIN:VEVENT
DTSTART;TZID=America/Denver:20240515T113000
DTEND;TZID=America/Denver:20240515T130000
DTSTAMP:20260423T172325
CREATED:20230921T164249Z
LAST-MODIFIED:20240503T134400Z
UID:2115-1715772600-1715778000@www.dcrw.org
SUMMARY:DCRW May Meeting - Fundraiser for Freedom Auction / Heidi Ganahl Rocky Mountain Voice
DESCRIPTION:Wednesday\, May 15\, 2024\nSocial Time 11:00 – 11:30 am\nGavel Drops at 11:30 am\nCost:\nMembers: $35 any payment method\, reserve before 5pm May 8th\, $40 after May 8th\nNon-Members: $40 \nhttps://www.dcrw.org/monthly-luncheon-rsvp-and-pay-with-square/ \nLocation:\nLone Tree Golf Club and Hotel\n9808 Sunningdale Blvd\, Lone Tree\, CO  80124\nReservations due by 5pm Wednesday\, May 8\, 2024 – late reservations add $5\nRSVP by email: douglascountyrepublicanwomen@Hotmail.com\nIF YOU DO NOT RECEIVE AN EMAIL CONFIRMATION OF YOUR RESERVATION IN 2 DAYS\, PLEASE CALL US TO RESERVE A SPACE\nNo-show reservations will be charged
URL:https://www.dcrw.org/event/dcrw-may-meeting/
LOCATION:Lone Tree Golf Club and Hotel\, 9808 Sunningdale Blvd.\, Lone Tree\, CO\, 80124
CATEGORIES:Fundraisers,Monthly Luncheon Meeting
ATTACH;FMTTYPE=image/png:https://www.dcrw.org/wp-content/uploads/2023/09/dcrw-flyer-5.png
END:VEVENT
BEGIN:VEVENT
DTSTART;TZID=America/Denver:20230819T110000
DTEND;TZID=America/Denver:20230819T150000
DTSTAMP:20260423T172325
CREATED:20230414T161338Z
LAST-MODIFIED:20230511T231003Z
UID:2066-1692442800-1692457200@www.dcrw.org
SUMMARY:DCRW/Lincoln Club - Annual Lincoln Day Picnic
DESCRIPTION:Join us for the Lincoln Day Summer Picnic co-sponsored by DCRW and the Lincoln Club of Colorado!  Gates open at 11am\, food served 12-2\, gates close at 3pm!  We will host an auction to benefit Republican candidates. \nPricing: $35/person (aged 16+); $60/couple (aged 16+); $70 family (2 aged 16+ and kids under 16) \nAdvance purchase only: no walk-ins\, checks or cash.  Purchase your ticket by August 12th here:  https://www.dcrw.org/2023-summer-picnic/ \n 
URL:https://www.dcrw.org/event/dcrws-lincoln-day-summer-picnic/
LOCATION:Wiens Ranch\, 5567 S Perry Park Rd\, Sedalia\, CO\, 80135\, United States
CATEGORIES:Fundraisers
ATTACH;FMTTYPE=image/png:https://www.dcrw.org/wp-content/uploads/2023/04/Picture1.png
END:VEVENT
BEGIN:VEVENT
DTSTART;TZID=America/Denver:20230315T113000
DTEND;TZID=America/Denver:20230315T130000
DTSTAMP:20260423T172325
CREATED:20230110T040123Z
LAST-MODIFIED:20230228T182246Z
UID:1998-1678879800-1678885200@www.dcrw.org
SUMMARY:DCRW March Luncheon - Congressman Ken Buck
DESCRIPTION:Wednesday\, March 15\, 2023\nSocial Time 11:00 – 11:30 am\nGavel Drops at 11:30 am\nCost:\nMembers: $35 any payment method\, reserve before 5pm March 8th\, $40 after March 8th\nNon-Members: $40 \nhttps://www.dcrw.org/monthly-luncheon-rsvp-and-pay-with-paypal \nLocation:\nLone Tree Golf Club and Hotel\n9808 Sunningdale Blvd\, Lone Tree\, CO  80124\nReservations due by 5pm Wednesday\, March 8\, 2023 – late reservations add $5\nRSVP by email: douglascountyrepublicanwomen@Hotmail.com\nIF YOU DO NOT RECEIVE AN EMAIL CONFIRMATION OF YOUR RESERVATION IN 2 DAYS\, PLEASE CALL US TO RESERVE A SPACE\nNo-show reservations will be charged
URL:https://www.dcrw.org/event/dcrw-march-luncheon-6/
LOCATION:Lone Tree Golf Club and Hotel\, 9808 Sunningdale Blvd.\, Lone Tree\, CO\, 80124
CATEGORIES:Fundraisers,Monthly Luncheon Meeting
ATTACH;FMTTYPE=image/jpeg:https://www.dcrw.org/wp-content/uploads/2019/12/20200615_112231_HDR-crop3.jpg
END:VEVENT
BEGIN:VEVENT
DTSTART;TZID=America/Denver:20220813T110000
DTEND;TZID=America/Denver:20220813T150000
DTSTAMP:20260423T172325
CREATED:20220522T223547Z
LAST-MODIFIED:20220607T195121Z
UID:1926-1660388400-1660402800@www.dcrw.org
SUMMARY:DCRW/Lincoln Club Present: Lincoln Day Summer Picnic
DESCRIPTION:Join us for the Lincoln Day Summer Picnic sponsored by DCRW and the Lincoln Club of Colorado!  This is your chance to hear from and speak to our candidates before the election!  Pricing is below.  Sign up today! \nSingle (age 16+) – $30\nCouple (age 16+) – $55\nFamily (2 people aged 16+ and kids) – $65
URL:https://www.dcrw.org/event/dcrw-lincoln-club-present-lincoln-day-summer-picnic/
LOCATION:Wiens Ranch\, 5567 S Perry Park Rd\, Sedalia\, CO\, 80135\, United States
CATEGORIES:Candidate Forums,Fundraisers,GOP Events
ATTACH;FMTTYPE=image/png:https://www.dcrw.org/wp-content/uploads/2021/07/DCRW-Lincoln-Club-e1626231146467.png
END:VEVENT
BEGIN:VEVENT
DTSTART;TZID=America/Denver:20220420T113000
DTEND;TZID=America/Denver:20220420T130000
DTSTAMP:20260423T172325
CREATED:20211117T213256Z
LAST-MODIFIED:20220320T223939Z
UID:1738-1650454200-1650459600@www.dcrw.org
SUMMARY:DCRW April Luncheon and Annual Auction
DESCRIPTION:Wednesday\, April 20\, 2022\nSocial Time 11:00 – 11:30 am\nGavel Drops at 11:30 am\nCost:\nMembers: $32 any payment method\, reserve before 5pm April 13th\, $37 after April 13th\nNon-Members: $37 \nhttps://www.dcrw.org/monthly-luncheon-rsvp-and-pay-with-paypal \nLocation:\nLone Tree Golf Club and Hotel\n9808 Sunningdale Blvd\, Lone Tree\, CO  80124\nReservations due by 5pm Wednesday\, April 13\, 2022 – late reservations add $5\nRSVP by email: douglascountyrepublicanwomen@Hotmail.com\nIF YOU DO NOT RECEIVE AN EMAIL CONFIRMATION OF YOUR RESERVATION IN 2 DAYS\, PLEASE CALL US TO RESERVE A SPACE\nNo-show reservations will be charged
URL:https://www.dcrw.org/event/dcrw-april-luncheon-3/
LOCATION:Lone Tree Golf Club and Hotel\, 9808 Sunningdale Blvd.\, Lone Tree\, CO\, 80124
CATEGORIES:Fundraisers,Monthly Luncheon Meeting
ATTACH;FMTTYPE=image/jpeg:https://www.dcrw.org/wp-content/uploads/2019/12/20200615_112231_HDR-crop3.jpg
END:VEVENT
BEGIN:VEVENT
DTSTART;TZID=America/Denver:20180825T110000
DTEND;TZID=America/Denver:20180825T150000
DTSTAMP:20260423T172325
CREATED:20180820T165507Z
LAST-MODIFIED:20180820T170543Z
UID:944-1535194800-1535209200@www.dcrw.org
SUMMARY:Douglas County Republicans Annual Picnic
DESCRIPTION:Mark your calendar\, and join us by purchasing your ticket to the Douglas County Republicans Annual Picnic HERE: \n\nSaturday August 25th from 11:00 AM –  3:00 PM\n$15 per Person or $25 for the Entire Family\nDunk Tank\, Kids Games\, Dessert Auction (Starts at 11:00 AM)\nHamburgers\, Hot Dogs\, Pulled Pork Sandwiches and drinks.\nPLEASE BRING A SIDE DISH\n\nHosted at the World Class Wiens Ranch – 5567 S. PERRY PARK RD\, SEDALIA\, CO
URL:https://www.dcrw.org/event/douglas-county-republicans-annual-picnic/
LOCATION:Wiens Ranch\, 5567 S Perry Park Rd\, Sedalia\, CO\, 80135\, United States
CATEGORIES:Fundraisers,GOP Events
ATTACH;FMTTYPE=image/jpeg:https://www.dcrw.org/wp-content/uploads/2018/08/dc.jpg
END:VEVENT
END:VCALENDAR