BEGIN:VCALENDAR
VERSION:2.0
PRODID:-//Douglas County Republican Women - ECPv6.15.17//NONSGML v1.0//EN
CALSCALE:GREGORIAN
METHOD:PUBLISH
X-ORIGINAL-URL:https://www.dcrw.org
X-WR-CALDESC:Events for Douglas County Republican Women
REFRESH-INTERVAL;VALUE=DURATION:PT1H
X-Robots-Tag:noindex
X-PUBLISHED-TTL:PT1H
BEGIN:VTIMEZONE
TZID:America/Denver
BEGIN:DAYLIGHT
TZOFFSETFROM:-0700
TZOFFSETTO:-0600
TZNAME:MDT
DTSTART:20230312T090000
END:DAYLIGHT
BEGIN:STANDARD
TZOFFSETFROM:-0600
TZOFFSETTO:-0700
TZNAME:MST
DTSTART:20231105T080000
END:STANDARD
BEGIN:DAYLIGHT
TZOFFSETFROM:-0700
TZOFFSETTO:-0600
TZNAME:MDT
DTSTART:20240310T090000
END:DAYLIGHT
BEGIN:STANDARD
TZOFFSETFROM:-0600
TZOFFSETTO:-0700
TZNAME:MST
DTSTART:20241103T080000
END:STANDARD
BEGIN:DAYLIGHT
TZOFFSETFROM:-0700
TZOFFSETTO:-0600
TZNAME:MDT
DTSTART:20250309T090000
END:DAYLIGHT
BEGIN:STANDARD
TZOFFSETFROM:-0600
TZOFFSETTO:-0700
TZNAME:MST
DTSTART:20251102T080000
END:STANDARD
END:VTIMEZONE
BEGIN:VEVENT
DTSTART;TZID=America/Denver:20240313T050000
DTEND;TZID=America/Denver:20240313T170000
DTSTAMP:20260425T094440
CREATED:20230921T165217Z
LAST-MODIFIED:20240125T152002Z
UID:2123-1710306000-1710349200@www.dcrw.org
SUMMARY:Last Day for On-Time Reservation to March Luncheon
DESCRIPTION:Make your on-time reservation to March’s luncheon by submitting before 5pm Wednesday\, March 13th. RSVP by email to douglascountyrepublicanwomen@hotmail.com.
URL:https://www.dcrw.org/event/last-day-for-on-time-reservation-to-march-luncheon-5/
LOCATION:Lone Tree Golf Club and Hotel\, 9808 Sunningdale Blvd.\, Lone Tree\, CO\, 80124
CATEGORIES:Monthly Luncheon Meeting
ATTACH;FMTTYPE=image/png:https://www.dcrw.org/wp-content/uploads/2018/10/Dont-Be-Late.png
END:VEVENT
BEGIN:VEVENT
DTSTART;TZID=America/Denver:20240320T113000
DTEND;TZID=America/Denver:20240320T130000
DTSTAMP:20260425T094440
CREATED:20230921T163906Z
LAST-MODIFIED:20240403T143511Z
UID:2111-1710934200-1710939600@www.dcrw.org
SUMMARY:DCRW March Meeting- - DC Commissioner and JD 23 Forums
DESCRIPTION:Wednesday\, March 20\, 2024\nSocial Time 11:00 – 11:30 am\nGavel Drops at 11:30 am\nCost:\nMembers: $35 any payment method\, reserve before 5pm March 13th\, $40 after March 13th\nNon-Members: $40 \nhttps://www.dcrw.org/monthly-luncheon-rsvp-and-pay-with-square/ \nLocation:\nLone Tree Golf Club and Hotel\n9808 Sunningdale Blvd\, Lone Tree\, CO  80124\nReservations due by 5pm Wednesday\, March 13\, 2024 – late reservations add $5\nRSVP by email: douglascountyrepublicanwomen@Hotmail.com\nIF YOU DO NOT RECEIVE AN EMAIL CONFIRMATION OF YOUR RESERVATION IN 2 DAYS\, PLEASE CALL US TO RESERVE A SPACE\nNo-show reservations will be charged
URL:https://www.dcrw.org/event/dcrw-march-meeting/
LOCATION:Lone Tree Golf Club and Hotel\, 9808 Sunningdale Blvd.\, Lone Tree\, CO\, 80124
CATEGORIES:Monthly Luncheon Meeting
ATTACH;FMTTYPE=image/jpeg:https://www.dcrw.org/wp-content/uploads/2023/01/LTGC-Sep-23-scaled.jpg
END:VEVENT
END:VCALENDAR