BEGIN:VCALENDAR
VERSION:2.0
PRODID:-//Douglas County Republican Women - ECPv6.15.17//NONSGML v1.0//EN
CALSCALE:GREGORIAN
METHOD:PUBLISH
X-ORIGINAL-URL:https://www.dcrw.org
X-WR-CALDESC:Events for Douglas County Republican Women
REFRESH-INTERVAL;VALUE=DURATION:PT1H
X-Robots-Tag:noindex
X-PUBLISHED-TTL:PT1H
BEGIN:VTIMEZONE
TZID:America/Denver
BEGIN:DAYLIGHT
TZOFFSETFROM:-0700
TZOFFSETTO:-0600
TZNAME:MDT
DTSTART:20230312T090000
END:DAYLIGHT
BEGIN:STANDARD
TZOFFSETFROM:-0600
TZOFFSETTO:-0700
TZNAME:MST
DTSTART:20231105T080000
END:STANDARD
BEGIN:DAYLIGHT
TZOFFSETFROM:-0700
TZOFFSETTO:-0600
TZNAME:MDT
DTSTART:20240310T090000
END:DAYLIGHT
BEGIN:STANDARD
TZOFFSETFROM:-0600
TZOFFSETTO:-0700
TZNAME:MST
DTSTART:20241103T080000
END:STANDARD
BEGIN:DAYLIGHT
TZOFFSETFROM:-0700
TZOFFSETTO:-0600
TZNAME:MDT
DTSTART:20250309T090000
END:DAYLIGHT
BEGIN:STANDARD
TZOFFSETFROM:-0600
TZOFFSETTO:-0700
TZNAME:MST
DTSTART:20251102T080000
END:STANDARD
END:VTIMEZONE
BEGIN:VEVENT
DTSTART;TZID=America/Denver:20240515T113000
DTEND;TZID=America/Denver:20240515T130000
DTSTAMP:20260425T081056
CREATED:20230921T164249Z
LAST-MODIFIED:20240503T134400Z
UID:2115-1715772600-1715778000@www.dcrw.org
SUMMARY:DCRW May Meeting - Fundraiser for Freedom Auction / Heidi Ganahl Rocky Mountain Voice
DESCRIPTION:Wednesday\, May 15\, 2024\nSocial Time 11:00 – 11:30 am\nGavel Drops at 11:30 am\nCost:\nMembers: $35 any payment method\, reserve before 5pm May 8th\, $40 after May 8th\nNon-Members: $40 \nhttps://www.dcrw.org/monthly-luncheon-rsvp-and-pay-with-square/ \nLocation:\nLone Tree Golf Club and Hotel\n9808 Sunningdale Blvd\, Lone Tree\, CO  80124\nReservations due by 5pm Wednesday\, May 8\, 2024 – late reservations add $5\nRSVP by email: douglascountyrepublicanwomen@Hotmail.com\nIF YOU DO NOT RECEIVE AN EMAIL CONFIRMATION OF YOUR RESERVATION IN 2 DAYS\, PLEASE CALL US TO RESERVE A SPACE\nNo-show reservations will be charged
URL:https://www.dcrw.org/event/dcrw-may-meeting/
LOCATION:Lone Tree Golf Club and Hotel\, 9808 Sunningdale Blvd.\, Lone Tree\, CO\, 80124
CATEGORIES:Fundraisers,Monthly Luncheon Meeting
ATTACH;FMTTYPE=image/png:https://www.dcrw.org/wp-content/uploads/2023/09/dcrw-flyer-5.png
END:VEVENT
END:VCALENDAR