BEGIN:VCALENDAR
VERSION:2.0
PRODID:-//Douglas County Republican Women - ECPv6.15.17//NONSGML v1.0//EN
CALSCALE:GREGORIAN
METHOD:PUBLISH
X-ORIGINAL-URL:https://www.dcrw.org
X-WR-CALDESC:Events for Douglas County Republican Women
REFRESH-INTERVAL;VALUE=DURATION:PT1H
X-Robots-Tag:noindex
X-PUBLISHED-TTL:PT1H
BEGIN:VTIMEZONE
TZID:America/Denver
BEGIN:DAYLIGHT
TZOFFSETFROM:-0700
TZOFFSETTO:-0600
TZNAME:MDT
DTSTART:20240310T090000
END:DAYLIGHT
BEGIN:STANDARD
TZOFFSETFROM:-0600
TZOFFSETTO:-0700
TZNAME:MST
DTSTART:20241103T080000
END:STANDARD
BEGIN:DAYLIGHT
TZOFFSETFROM:-0700
TZOFFSETTO:-0600
TZNAME:MDT
DTSTART:20250309T090000
END:DAYLIGHT
BEGIN:STANDARD
TZOFFSETFROM:-0600
TZOFFSETTO:-0700
TZNAME:MST
DTSTART:20251102T080000
END:STANDARD
BEGIN:DAYLIGHT
TZOFFSETFROM:-0700
TZOFFSETTO:-0600
TZNAME:MDT
DTSTART:20260308T090000
END:DAYLIGHT
BEGIN:STANDARD
TZOFFSETFROM:-0600
TZOFFSETTO:-0700
TZNAME:MST
DTSTART:20261101T080000
END:STANDARD
END:VTIMEZONE
BEGIN:VEVENT
DTSTART;TZID=America/Denver:20250108T080000
DTEND;TZID=America/Denver:20250108T170000
DTSTAMP:20260424T191101
CREATED:20240717T173113Z
LAST-MODIFIED:20241008T194226Z
UID:2302-1736323200-1736355600@www.dcrw.org
SUMMARY:Last Day for On-Time Reservation to January Luncheon
DESCRIPTION:Make your on-time reservation to January’s luncheon by submitting before 5pm Wednesday\, January 8th. RSVP by email to douglascountyrepublicanwomen@hotmail.com.
URL:https://www.dcrw.org/event/last-day-for-on-time-reservation-to-january-luncheon-5/
CATEGORIES:Monthly Luncheon Meeting
ATTACH;FMTTYPE=image/png:https://www.dcrw.org/wp-content/uploads/2024/09/On-Time-Reservation.png
END:VEVENT
END:VCALENDAR