BEGIN:VCALENDAR
VERSION:2.0
PRODID:-//Douglas County Republican Women - ECPv6.15.17//NONSGML v1.0//EN
CALSCALE:GREGORIAN
METHOD:PUBLISH
X-ORIGINAL-URL:https://www.dcrw.org
X-WR-CALDESC:Events for Douglas County Republican Women
REFRESH-INTERVAL;VALUE=DURATION:PT1H
X-Robots-Tag:noindex
X-PUBLISHED-TTL:PT1H
BEGIN:VTIMEZONE
TZID:America/Denver
BEGIN:DAYLIGHT
TZOFFSETFROM:-0700
TZOFFSETTO:-0600
TZNAME:MDT
DTSTART:20240310T090000
END:DAYLIGHT
BEGIN:STANDARD
TZOFFSETFROM:-0600
TZOFFSETTO:-0700
TZNAME:MST
DTSTART:20241103T080000
END:STANDARD
BEGIN:DAYLIGHT
TZOFFSETFROM:-0700
TZOFFSETTO:-0600
TZNAME:MDT
DTSTART:20250309T090000
END:DAYLIGHT
BEGIN:STANDARD
TZOFFSETFROM:-0600
TZOFFSETTO:-0700
TZNAME:MST
DTSTART:20251102T080000
END:STANDARD
BEGIN:DAYLIGHT
TZOFFSETFROM:-0700
TZOFFSETTO:-0600
TZNAME:MDT
DTSTART:20260308T090000
END:DAYLIGHT
BEGIN:STANDARD
TZOFFSETFROM:-0600
TZOFFSETTO:-0700
TZNAME:MST
DTSTART:20261101T080000
END:STANDARD
BEGIN:DAYLIGHT
TZOFFSETFROM:-0700
TZOFFSETTO:-0600
TZNAME:MDT
DTSTART:20270314T090000
END:DAYLIGHT
BEGIN:STANDARD
TZOFFSETFROM:-0600
TZOFFSETTO:-0700
TZNAME:MST
DTSTART:20271107T080000
END:STANDARD
END:VTIMEZONE
BEGIN:VEVENT
DTSTART;VALUE=DATE:20250601
DTEND;VALUE=DATE:20250802
DTSTAMP:20260425T144208
CREATED:20250716T160245Z
LAST-MODIFIED:20250716T160500Z
UID:2599-1748736000-1754092799@www.dcrw.org
SUMMARY:No luncheons planned…
DESCRIPTION:Sorry\, no monthly luncheons in June\, July\, August\, or December.
URL:https://www.dcrw.org/event/no-luncheons-planned/
LOCATION:CO
END:VEVENT
BEGIN:VEVENT
DTSTART;TZID=America/Denver:20250917T110000
DTEND;TZID=America/Denver:20250917T130000
DTSTAMP:20260425T144208
CREATED:20250905T152430Z
LAST-MODIFIED:20250905T155614Z
UID:2613-1758106800-1758114000@www.dcrw.org
SUMMARY:DCRW September Luncheon - Senator John Carson with Legislative Update
DESCRIPTION:  \nDate: Wednesday\, September 17th\, 2025  Doors open at 11:00am\, Gavel Drops at 11:30am \nLocation: Lone Tree Golf Club and Hotel\, 9808 Sunningdale Boulevard\, Lone Tree\, CO 80124 \n$35 members\, $40 non-members\, by September 10th\, 2025. NO LATE RESERVATIONS\, NO WALK-INS! \nTo RSVP and pay online visit https://bit.ly/45Xjhav (have your credit card ready) \nTo RSVP by email or phone\, use douglascountyrepublicanwomen@hotmail.com
URL:https://www.dcrw.org/event/dcrw-september-luncheon-senator-john-carson-with-legislative-update/
LOCATION:CO
END:VEVENT
BEGIN:VEVENT
DTSTART;TZID=America/Denver:20251015T110000
DTEND;TZID=America/Denver:20251015T130000
DTSTAMP:20260425T144208
CREATED:20251006T211251Z
LAST-MODIFIED:20251006T211342Z
UID:2629-1760526000-1760533200@www.dcrw.org
SUMMARY:DCRW OCTOBER LUNCHEON WITH COMMON SENSE SCHOOL BOARD CANDIDATES
DESCRIPTION:Date: Wednesday\, October 15th\,  2025  Doors open at 11:00am\, Gavel Drops at 11:30am \nLocation: Lone Tree Golf Club and Hotel\, 9808 Sunningdale Boulevard\, Lone Tree\, CO 80124 \n$35 members\, $40 non-members\, by OCTOBER 8TH\, 2025. NO LATE RESERVATIONS\, NO WALK-INS! \nTo RSVP and pay online visit https://bit.ly/45Xjhav (have your credit card ready) \nTo RSVP by email or phone\, use douglascountyrepublicanwomen@hotmail.com
URL:https://www.dcrw.org/event/dcrw-october-luncheon-common-sense-school-board-candidates/
LOCATION:CO
END:VEVENT
BEGIN:VEVENT
DTSTART;TZID=America/Denver:20251119T110000
DTEND;TZID=America/Denver:20251119T130000
DTSTAMP:20260425T144208
CREATED:20251025T203301Z
LAST-MODIFIED:20251025T203408Z
UID:2635-1763550000-1763557200@www.dcrw.org
SUMMARY:DCRW NOVEMBER LUNCHEON WITH CHAIR OF THE COLORADO GOP\, BRITA HORN
DESCRIPTION:Date: Wednesday\, November 19th\,  2025  Doors open at 11:00am\, Gavel Drops at 11:30am \nLocation: Lone Tree Golf Club and Hotel\, 9808 Sunningdale Boulevard\, Lone Tree\, CO 80124 \n$35 members\, $40 non-members\, by November 12th\, 2025. NO LATE RESERVATIONS\, NO WALK-INS! \nTo RSVP and pay online visit https://bit.ly/45Xjhav (have your credit card ready) \nTo RSVP by email or phone\, use douglascountyrepublicanwomen@hotmail.com
URL:https://www.dcrw.org/event/dcrw-october-luncheon-with-common-sense-school-board-candidates/
LOCATION:CO
END:VEVENT
BEGIN:VEVENT
DTSTART;TZID=America/Denver:20260307T110000
DTEND;TZID=America/Denver:20260318T130000
DTSTAMP:20260425T144208
CREATED:20260307T181555Z
LAST-MODIFIED:20260308T221639Z
UID:2719-1772881200-1773838800@www.dcrw.org
SUMMARY:DCRW Luncheon with Douglas County Coroner\, Raeann Brown
DESCRIPTION:Join us on Wednesday\, March 18th for an exciting and informative presentation by our very own Douglas County Coroner\, Raeann Brown! \nDate: Wednesday\, March 18th\, 2026  Doors open at 11:00am\, Gavel Drops at 11:30am \nLocation: Lone Tree Golf Club and Hotel\, 9808 Sunningdale Boulevard\, Lone Tree\, CO 80124 \n$35 members\, $40 non-members\, by March 11\, 2026 – NO LATE RESERVATIONS\, NO WALK-INS! \nTo RSVP and pay online visit https://bit.ly/45Xjhav (have your credit card ready) \nTo RSVP by email: DCRWColorado@gmail.com \n 
URL:https://www.dcrw.org/event/dcrw-luncheon-with-douglas-county-coroner-raeann-brown/
LOCATION:Lone Tree Golf Club and Hotel\, 9808 Sunningdale Blvd.\, Lone Tree\, CO\, 80124
END:VEVENT
END:VCALENDAR